DSET ^air.mon.mean.nc64x36x01.bin
*options byteswapped big_endian
UNDEF -2.56E33
TITLE 10 days of Model Output (40-50 days)
*
XDEF 64 LINEAR 0 5.625
*
YDEF 36 LINEAR -87.5 5
*
ZDEF 1 LINEAR 1.435 2.87
*
TDEF 1200 LINEAR 00Z01Jan1958 720HRS
*
VARS 1
g 1 99 GH
ENDVARS
