DSET ^PHI_av_wQBO.dx
*options byteswapped big_endian
UNDEF -2.56E33
TITLE 100 days of Model Output (120-220 days)
*
XDEF 64 LINEAR 0 5.625
*
YDEF 36 LINEAR -87.5 5
*
ZDEF 23 LINEAR 1.421 2.842
*
TDEF 2000 LINEAR 00Z01Nov2015 3HRS
*
VARS 1
h 23 99 geopot height
ENDVARS
