dset Figures_2_and_3.dat
options big_endian
undef 0.10E-34
title all konstituents
xdef 64 linear 0.0 5.625
ydef 72 linear -88.75 2.5
zdef 2 levels 0.6 1.7
tdef 365 linear 1jan2009 1dy
vars 5
toh6 2 99 temperature at peak of emission [K]
hoh6 2 99 height of peak of emission [Km]
moh6 2 99 concentration OH(v=6) at peak [cm-3]
ooh6 2 99 atomic oxygen mixing ratio at peak
air 2 99 concentration of air at peak [cm-3]
endvars
