DSET ^freq_ave_LH.dx
*options byteswapped big_endian
UNDEF -2.56E33
TITLE 4 day of Model Output 12 per day recs begin: day196, summer.
*
XDEF 2 LINEAR 0 1
*
YDEF 36 LINEAR -87.5 5
*
ZDEF 10 LINEAR 1.421 2.842
*
TDEF 1 LINEAR 12Z21JUN1997 2HRS
*
VARS 2
Aw 10 99 ampwestw
Pw 10 99 phaswest
ENDVARs
