DSET ^lh_EL_m0.dx
*options byteswapped big_endian
UNDEF -2.56E33
TITLE 4 day of Model Output 12 per day recs begin: day196, summer.
*
XDEF 2 LINEAR 0 1
*
YDEF 36 LINEAR -87.5 5
*
ZDEF 10 LINEAR 1.421 2.842
*ZDEF 48 LINEAR 0.203 0.406
*
TDEF 1 LINEAR 12Z21JUN1997 2HRS
*
VARS 2
A 10 99 ampwestw
P 10 99 phaseast
ENDVARs
