DSET ^lh_120_m3.dx
*options byteswapped big_endian
UNDEF -2.56E33
TITLE 4 day of Model Output 12 per day recs begin: day196, summer.
*
XDEF 3 LINEAR 0 1
*
YDEF 36 LINEAR -87.5 5
*
ZDEF 10 LINEAR 1.421 2.842
*ZDEF 48 LINEAR 0.203 0.406
*
TDEF 1 LINEAR 12Z21JUN1997 2HRS
*
VARS 4
Aw 10 99 ampwestw
Ae 10 99 ampeastw
Pw 10 99 phaswest
Pe 10 99 phaseast
ENDVARs
