DSET ^uvt_td.dx
*options byteswapped big_endian
UNDEF -2.56E33
TITLE 10 days of Model Output (40-50 days)
*
XDEF 64 LINEAR 0 5.625
*
YDEF 36 LINEAR -87.5 5
*
ZDEF 56 LINEAR 1.435 2.87
*
TDEF 3000 LINEAR 00Z02Dec1997 2HRS
*
VARS 3
U 56 99 U Winds
V 56 99 V Winds
T 56 99 Temperatur
ENDVARS
