DSET ^td_rec_m1_07.dx
*options byteswapped big_endian
UNDEF -2.56E33
TITLE 4 day of Model Output 12 per day recs begin: day196, summer.
*
XDEF 5 LINEAR 0 1
*
YDEF 36 LINEAR -87.5 5
*
*ZDEF 48 LINEAR 0.203 0.406
ZDEF 56 LEVELS 1.7 4.8 7.7 10.5 13.1 15.6 18.1 20.6 23.2 25.8 28.5 31.3 34.2 37.2 40.2 43.4 46.7 49.9 53.2 56.4 59.6 62.7 65.7 68.6 71.4 74.0 76.6 79.0 81.3 83.6 85.7 87.8 89.9 91.9 94.0 96.0 98.1 100.2 102.6 105.3 108.5 112.6 117.7 123.9 131.4 140.2 150.3 161.7 174.3 188.1 203.1 219.1 236.1 254.1 273.0 292.7
*
TDEF 1 LINEAR 12Z21JUN1997 2HRS
*
VARS 4
Aw 56 99 ampwestw
Ae 56 99 ampeastw
Pw 56 99 phaswest
Pe 56 99 phaseast
ENDVARs
